BEGIN:VCALENDAR
VERSION:2.0
PRODID:-//MVF - ECPv6.15.12.2//NONSGML v1.0//EN
CALSCALE:GREGORIAN
METHOD:PUBLISH
X-WR-CALNAME:MVF
X-ORIGINAL-URL:https://mvfair.com
X-WR-CALDESC:Events for MVF
REFRESH-INTERVAL;VALUE=DURATION:PT1H
X-Robots-Tag:noindex
X-PUBLISHED-TTL:PT1H
BEGIN:VTIMEZONE
TZID:UTC
BEGIN:STANDARD
TZOFFSETFROM:+0000
TZOFFSETTO:+0000
TZNAME:UTC
DTSTART:20250101T000000
END:STANDARD
END:VTIMEZONE
BEGIN:VEVENT
DTSTART;VALUE=DATE:20260601
DTEND;VALUE=DATE:20260602
DTSTAMP:20260421T202308
CREATED:20260109T211327Z
LAST-MODIFIED:20260109T211327Z
UID:5925-1780272000-1780358399@mvfair.com
SUMMARY:KUBOTA HIGH LIMITS SPRINT CARS
DESCRIPTION:
URL:https://mvfair.com/event/kubota-high-limits-sprint-cars/
END:VEVENT
BEGIN:VEVENT
DTSTART;VALUE=DATE:20260602
DTEND;VALUE=DATE:20260603
DTSTAMP:20260421T202308
CREATED:20260114T165255Z
LAST-MODIFIED:20260114T165255Z
UID:5989-1780358400-1780444799@mvfair.com
SUMMARY:TUESDAY BINGO
DESCRIPTION:TWO SESSIONS 12:30 & 6:30PM \nDOORS OPEN 1 HOUR EARLY \nPACKAGES START AT $13
URL:https://mvfair.com/event/tuesday-bingo-85/
END:VEVENT
BEGIN:VEVENT
DTSTART;VALUE=DATE:20260605
DTEND;VALUE=DATE:20260606
DTSTAMP:20260421T202308
CREATED:20260109T211354Z
LAST-MODIFIED:20260109T211354Z
UID:5927-1780617600-1780703999@mvfair.com
SUMMARY:RACES - WEEKLY
DESCRIPTION:
URL:https://mvfair.com/event/races-weekly-5/
END:VEVENT
BEGIN:VEVENT
DTSTART;VALUE=DATE:20260607
DTEND;VALUE=DATE:20260608
DTSTAMP:20260421T202308
CREATED:20260114T174021Z
LAST-MODIFIED:20260114T174021Z
UID:6032-1780790400-1780876799@mvfair.com
SUMMARY:SUNDAY BINGO
DESCRIPTION:DOORS OPEN AT 5PM BINGO IS AT 6PM \nPACKAGES START AT $13
URL:https://mvfair.com/event/sunday-bingo-41/
END:VEVENT
BEGIN:VEVENT
DTSTART;VALUE=DATE:20260609
DTEND;VALUE=DATE:20260610
DTSTAMP:20260421T202308
CREATED:20260114T165309Z
LAST-MODIFIED:20260114T165309Z
UID:5991-1780963200-1781049599@mvfair.com
SUMMARY:TUESDAY BINGO
DESCRIPTION:TWO SESSIONS 12:30 & 6:30PM \nDOORS OPEN 1 HOUR EARLY \nPACKAGES START AT $13
URL:https://mvfair.com/event/tuesday-bingo-86/
END:VEVENT
BEGIN:VEVENT
DTSTART;VALUE=DATE:20260612
DTEND;VALUE=DATE:20260613
DTSTAMP:20260421T202308
CREATED:20260109T211414Z
LAST-MODIFIED:20260109T211414Z
UID:5929-1781222400-1781308799@mvfair.com
SUMMARY:RACES- WEEKLY
DESCRIPTION:
URL:https://mvfair.com/event/races-weekly-6/
END:VEVENT
BEGIN:VEVENT
DTSTART;VALUE=DATE:20260613
DTEND;VALUE=DATE:20260614
DTSTAMP:20260421T202308
CREATED:20200717T155822Z
LAST-MODIFIED:20260317T171205Z
UID:855-1781308800-1781395199@mvfair.com
SUMMARY:Tractor Pull Grandstand
DESCRIPTION:
URL:https://mvfair.com/event/tractor-pull/
END:VEVENT
BEGIN:VEVENT
DTSTART;VALUE=DATE:20260614
DTEND;VALUE=DATE:20260615
DTSTAMP:20260421T202308
CREATED:20260114T174037Z
LAST-MODIFIED:20260114T174037Z
UID:6034-1781395200-1781481599@mvfair.com
SUMMARY:SUNDAY BINGO
DESCRIPTION:DOORS OPEN AT 5PM BINGO IS AT 6PM \nPACKAGES START AT $13
URL:https://mvfair.com/event/sunday-bingo-42/
END:VEVENT
BEGIN:VEVENT
DTSTART;VALUE=DATE:20260616
DTEND;VALUE=DATE:20260617
DTSTAMP:20260421T202308
CREATED:20260114T165333Z
LAST-MODIFIED:20260114T165333Z
UID:5993-1781568000-1781654399@mvfair.com
SUMMARY:TUESDAY BINGO
DESCRIPTION:TWO SESSIONS 12:30 & 6:30PM \nDOORS OPEN 1 HOUR EARLY \nPACKAGES START AT $13
URL:https://mvfair.com/event/tuesday-bingo-87/
END:VEVENT
BEGIN:VEVENT
DTSTART;VALUE=DATE:20260617
DTEND;VALUE=DATE:20260618
DTSTAMP:20260421T202308
CREATED:20260109T211447Z
LAST-MODIFIED:20260109T212954Z
UID:5931-1781654400-1781740799@mvfair.com
SUMMARY:SUMMERNATIONALS -RACE
DESCRIPTION:
URL:https://mvfair.com/event/summernationals-race/
END:VEVENT
BEGIN:VEVENT
DTSTART;VALUE=DATE:20260620
DTEND;VALUE=DATE:20260621
DTSTAMP:20260421T202308
CREATED:20260109T204754Z
LAST-MODIFIED:20260408T152805Z
UID:5886-1781913600-1781999999@mvfair.com
SUMMARY:BOOTS & BEATS- LINE DANCING
DESCRIPTION:
URL:https://mvfair.com/event/boots-beats-line-dancing/
END:VEVENT
BEGIN:VEVENT
DTSTART;VALUE=DATE:20260621
DTEND;VALUE=DATE:20260622
DTSTAMP:20260421T202308
CREATED:20260114T174058Z
LAST-MODIFIED:20260114T174058Z
UID:6036-1782000000-1782086399@mvfair.com
SUMMARY:SUNDAY BINGO
DESCRIPTION:DOORS OPEN AT 5PM BINGO IS AT 6PM \nPACKAGES START AT $13
URL:https://mvfair.com/event/sunday-bingo-43/
END:VEVENT
BEGIN:VEVENT
DTSTART;VALUE=DATE:20260623
DTEND;VALUE=DATE:20260624
DTSTAMP:20260421T202308
CREATED:20260114T165353Z
LAST-MODIFIED:20260114T165353Z
UID:5995-1782172800-1782259199@mvfair.com
SUMMARY:TUESDAY BINGO
DESCRIPTION:TWO SESSIONS 12:30 & 6:30PM \nDOORS OPEN 1 HOUR EARLY \nPACKAGES START AT $13
URL:https://mvfair.com/event/tuesday-bingo-88/
END:VEVENT
BEGIN:VEVENT
DTSTART;VALUE=DATE:20260625
DTEND;VALUE=DATE:20260706
DTSTAMP:20260421T202308
CREATED:20260312T204314Z
LAST-MODIFIED:20260312T204314Z
UID:6199-1782345600-1783295999@mvfair.com
SUMMARY:FIREWORKS SALE
DESCRIPTION:DAILY JUNE 25TH TO JULY 5TH 2026 IN THE IOWA BUILDING
URL:https://mvfair.com/event/fireworks-sale-2/
END:VEVENT
BEGIN:VEVENT
DTSTART;VALUE=DATE:20260626
DTEND;VALUE=DATE:20260627
DTSTAMP:20260421T202308
CREATED:20260109T211509Z
LAST-MODIFIED:20260109T211515Z
UID:5933-1782432000-1782518399@mvfair.com
SUMMARY:RACES - WEEKLY
DESCRIPTION:
URL:https://mvfair.com/event/races-weekly-7/
END:VEVENT
BEGIN:VEVENT
DTSTART;VALUE=DATE:20260628
DTEND;VALUE=DATE:20260629
DTSTAMP:20260421T202308
CREATED:20260114T174139Z
LAST-MODIFIED:20260114T174139Z
UID:6038-1782604800-1782691199@mvfair.com
SUMMARY:SUNDAY BINGO
DESCRIPTION:DOORS OPEN AT 5PM BINGO IS AT 6PM \nPACKAGES START AT $13
URL:https://mvfair.com/event/sunday-bingo-44/
END:VEVENT
BEGIN:VEVENT
DTSTART;VALUE=DATE:20260630
DTEND;VALUE=DATE:20260701
DTSTAMP:20260421T202308
CREATED:20260114T165413Z
LAST-MODIFIED:20260114T165413Z
UID:5997-1782777600-1782863999@mvfair.com
SUMMARY:TUESDAY BINGO
DESCRIPTION:TWO SESSIONS 12:30 & 6:30PM \nDOORS OPEN 1 HOUR EARLY \nPACKAGES START AT $13
URL:https://mvfair.com/event/tuesday-bingo-89/
END:VEVENT
END:VCALENDAR