BEGIN:VCALENDAR
VERSION:2.0
PRODID:-//MVF - ECPv6.15.12.2//NONSGML v1.0//EN
CALSCALE:GREGORIAN
METHOD:PUBLISH
X-ORIGINAL-URL:https://mvfair.com
X-WR-CALDESC:Events for MVF
REFRESH-INTERVAL;VALUE=DURATION:PT1H
X-Robots-Tag:noindex
X-PUBLISHED-TTL:PT1H
BEGIN:VTIMEZONE
TZID:UTC
BEGIN:STANDARD
TZOFFSETFROM:+0000
TZOFFSETTO:+0000
TZNAME:UTC
DTSTART:20250101T000000
END:STANDARD
END:VTIMEZONE
BEGIN:VEVENT
DTSTART;VALUE=DATE:20261002
DTEND;VALUE=DATE:20261005
DTSTAMP:20260424T100619
CREATED:20250604T191753Z
LAST-MODIFIED:20260218T200255Z
UID:5524-1790899200-1791158399@mvfair.com
SUMMARY:HAUNTED HOUSE
DESCRIPTION:
URL:https://mvfair.com/event/haunted-house-15/
END:VEVENT
BEGIN:VEVENT
DTSTART;VALUE=DATE:20261003
DTEND;VALUE=DATE:20261004
DTSTAMP:20260424T100619
CREATED:20260211T153047Z
LAST-MODIFIED:20260211T153047Z
UID:6097-1790985600-1791071999@mvfair.com
SUMMARY:Monster Truck Show
DESCRIPTION:one show 7pm More info soon
URL:https://mvfair.com/event/monster-truck-show-2/
END:VEVENT
BEGIN:VEVENT
DTSTART;VALUE=DATE:20261004
DTEND;VALUE=DATE:20261005
DTSTAMP:20260424T100619
CREATED:20260317T174259Z
LAST-MODIFIED:20260317T174259Z
UID:6300-1791072000-1791158399@mvfair.com
SUMMARY:SUNDAY BINGO
DESCRIPTION:DOORS OPEN AT 5PM BINGO IS AT 6PM \nPACKAGES START AT $13
URL:https://mvfair.com/event/sunday-bingo-55/
END:VEVENT
BEGIN:VEVENT
DTSTART;VALUE=DATE:20261006
DTEND;VALUE=DATE:20261007
DTSTAMP:20260424T100619
CREATED:20260317T172117Z
LAST-MODIFIED:20260317T172125Z
UID:6266-1791244800-1791331199@mvfair.com
SUMMARY:TUESDAY BINGO
DESCRIPTION:TWO SESSIONS 12:30 & 6:30PM \nDOORS OPEN 1 HOUR EARLY \nPACKAGES START AT $13
URL:https://mvfair.com/event/tuesday-bingo-101/
END:VEVENT
BEGIN:VEVENT
DTSTART;VALUE=DATE:20261009
DTEND;VALUE=DATE:20261011
DTSTAMP:20260424T100619
CREATED:20260218T200425Z
LAST-MODIFIED:20260218T200436Z
UID:6144-1791504000-1791676799@mvfair.com
SUMMARY:DAVENPORT DIRT STARS
DESCRIPTION:
URL:https://mvfair.com/event/davenport-dirt-stars/
END:VEVENT
BEGIN:VEVENT
DTSTART;VALUE=DATE:20261009
DTEND;VALUE=DATE:20261012
DTSTAMP:20260424T100619
CREATED:20260218T200459Z
LAST-MODIFIED:20260218T200512Z
UID:6146-1791504000-1791763199@mvfair.com
SUMMARY:HAUNTED HOUSE
DESCRIPTION:
URL:https://mvfair.com/event/haunted-house-16/
END:VEVENT
BEGIN:VEVENT
DTSTART;VALUE=DATE:20261011
DTEND;VALUE=DATE:20261012
DTSTAMP:20260424T100619
CREATED:20260317T174313Z
LAST-MODIFIED:20260317T174313Z
UID:6302-1791676800-1791763199@mvfair.com
SUMMARY:SUNDAY BINGO
DESCRIPTION:DOORS OPEN AT 5PM BINGO IS AT 6PM \nPACKAGES START AT $13
URL:https://mvfair.com/event/sunday-bingo-56/
END:VEVENT
BEGIN:VEVENT
DTSTART;VALUE=DATE:20261013
DTEND;VALUE=DATE:20261014
DTSTAMP:20260424T100619
CREATED:20260317T172144Z
LAST-MODIFIED:20260317T172144Z
UID:6268-1791849600-1791935999@mvfair.com
SUMMARY:TUESDAY BINGO
DESCRIPTION:TWO SESSIONS 12:30 & 6:30PM \nDOORS OPEN 1 HOUR EARLY \nPACKAGES START AT $13
URL:https://mvfair.com/event/tuesday-bingo-102/
END:VEVENT
BEGIN:VEVENT
DTSTART;VALUE=DATE:20261016
DTEND;VALUE=DATE:20261019
DTSTAMP:20260424T100619
CREATED:20260218T200554Z
LAST-MODIFIED:20260218T200554Z
UID:6148-1792108800-1792367999@mvfair.com
SUMMARY:HAUNTED HOUSE
DESCRIPTION:
URL:https://mvfair.com/event/haunted-house-17/
END:VEVENT
BEGIN:VEVENT
DTSTART;VALUE=DATE:20261016
DTEND;VALUE=DATE:20261018
DTSTAMP:20260424T100619
CREATED:20260218T200938Z
LAST-MODIFIED:20260218T200938Z
UID:6156-1792108800-1792281599@mvfair.com
SUMMARY:QUILT SHOW
DESCRIPTION:
URL:https://mvfair.com/event/quilt-show/
END:VEVENT
BEGIN:VEVENT
DTSTART;VALUE=DATE:20261018
DTEND;VALUE=DATE:20261019
DTSTAMP:20260424T100619
CREATED:20260317T174330Z
LAST-MODIFIED:20260317T174334Z
UID:6304-1792281600-1792367999@mvfair.com
SUMMARY:SUNDAY BINGO
DESCRIPTION:DOORS OPEN AT 5PM BINGO IS AT 6PM \nPACKAGES START AT $13
URL:https://mvfair.com/event/sunday-bingo-57/
END:VEVENT
BEGIN:VEVENT
DTSTART;VALUE=DATE:20261020
DTEND;VALUE=DATE:20261021
DTSTAMP:20260424T100619
CREATED:20260317T172159Z
LAST-MODIFIED:20260317T172159Z
UID:6270-1792454400-1792540799@mvfair.com
SUMMARY:TUESDAY BINGO
DESCRIPTION:TWO SESSIONS 12:30 & 6:30PM \nDOORS OPEN 1 HOUR EARLY \nPACKAGES START AT $13
URL:https://mvfair.com/event/tuesday-bingo-103/
END:VEVENT
BEGIN:VEVENT
DTSTART;VALUE=DATE:20261023
DTEND;VALUE=DATE:20261026
DTSTAMP:20260424T100619
CREATED:20260218T200626Z
LAST-MODIFIED:20260218T200626Z
UID:6150-1792713600-1792972799@mvfair.com
SUMMARY:HAUNTED HOUSE
DESCRIPTION:
URL:https://mvfair.com/event/haunted-house-18/
END:VEVENT
BEGIN:VEVENT
DTSTART;VALUE=DATE:20261024
DTEND;VALUE=DATE:20261025
DTSTAMP:20260424T100619
CREATED:20260218T201126Z
LAST-MODIFIED:20260218T201135Z
UID:6158-1792800000-1792886399@mvfair.com
SUMMARY:HALLOWEEN BALL
DESCRIPTION:
URL:https://mvfair.com/event/halloween-ball/
END:VEVENT
BEGIN:VEVENT
DTSTART;VALUE=DATE:20261025
DTEND;VALUE=DATE:20261026
DTSTAMP:20260424T100619
CREATED:20260317T174353Z
LAST-MODIFIED:20260317T174353Z
UID:6306-1792886400-1792972799@mvfair.com
SUMMARY:SUNDAY BINGO
DESCRIPTION:DOORS OPEN AT 5PM BINGO IS AT 6PM \nPACKAGES START AT $13
URL:https://mvfair.com/event/sunday-bingo-58/
END:VEVENT
BEGIN:VEVENT
DTSTART;VALUE=DATE:20261027
DTEND;VALUE=DATE:20261028
DTSTAMP:20260424T100619
CREATED:20260317T172230Z
LAST-MODIFIED:20260317T172230Z
UID:6272-1793059200-1793145599@mvfair.com
SUMMARY:TUESDAY BINGO
DESCRIPTION:TWO SESSIONS 12:30 & 6:30PM \nDOORS OPEN 1 HOUR EARLY \nPACKAGES START AT $13
URL:https://mvfair.com/event/tuesday-bingo-104/
END:VEVENT
BEGIN:VEVENT
DTSTART;VALUE=DATE:20261030
DTEND;VALUE=DATE:20261102
DTSTAMP:20260424T100619
CREATED:20260218T200652Z
LAST-MODIFIED:20260218T200652Z
UID:6152-1793318400-1793577599@mvfair.com
SUMMARY:HAUNTED HOUSE
DESCRIPTION:
URL:https://mvfair.com/event/haunted-house-19/
END:VEVENT
BEGIN:VEVENT
DTSTART;VALUE=DATE:20261031
DTEND;VALUE=DATE:20261101
DTSTAMP:20260424T100619
CREATED:20250604T192307Z
LAST-MODIFIED:20260414T152924Z
UID:5537-1793404800-1793491199@mvfair.com
SUMMARY:DOG SHOW FAIR CENTER
DESCRIPTION:
URL:https://mvfair.com/event/dog-show-4/
END:VEVENT
END:VCALENDAR