BEGIN:VCALENDAR
VERSION:2.0
PRODID:-//MVF - ECPv6.15.12.2//NONSGML v1.0//EN
CALSCALE:GREGORIAN
METHOD:PUBLISH
X-WR-CALNAME:MVF
X-ORIGINAL-URL:https://mvfair.com
X-WR-CALDESC:Events for MVF
REFRESH-INTERVAL;VALUE=DURATION:PT1H
X-Robots-Tag:noindex
X-PUBLISHED-TTL:PT1H
BEGIN:VTIMEZONE
TZID:UTC
BEGIN:STANDARD
TZOFFSETFROM:+0000
TZOFFSETTO:+0000
TZNAME:UTC
DTSTART:20250101T000000
END:STANDARD
END:VTIMEZONE
BEGIN:VEVENT
DTSTART;VALUE=DATE:20260424
DTEND;VALUE=DATE:20260427
DTSTAMP:20260425T151425
CREATED:20260213T195404Z
LAST-MODIFIED:20260324T125516Z
UID:6101-1776988800-1777247999@mvfair.com
SUMMARY:DAVENPORT HOME SHOW
DESCRIPTION:FREE ADMISSION \nFRIDAY 12-6PM \nSATURDAY 10-5PM \nSUNDAY 11-4PM
URL:https://mvfair.com/event/nationwide-expos-home-show/
END:VEVENT
BEGIN:VEVENT
DTSTART;VALUE=DATE:20260425
DTEND;VALUE=DATE:20260426
DTSTAMP:20260425T151425
CREATED:20260213T195656Z
LAST-MODIFIED:20260213T200154Z
UID:6104-1777075200-1777161599@mvfair.com
SUMMARY:EXTREME DWARFANATORS WRESTLING IOWA BUILDING
DESCRIPTION:https://dwarfanators.com/ for ticket info
URL:https://mvfair.com/event/extreme-dwarfanators-wrestling-iowa-building/
END:VEVENT
BEGIN:VEVENT
DTSTART;VALUE=DATE:20260426
DTEND;VALUE=DATE:20260427
DTSTAMP:20260425T151425
CREATED:20260114T173639Z
LAST-MODIFIED:20260114T173639Z
UID:6019-1777161600-1777247999@mvfair.com
SUMMARY:SUNDAY BINGO
DESCRIPTION:DOORS OPEN AT 5PM BINGO IS AT 6PM \nPACKAGES START AT $13
URL:https://mvfair.com/event/sunday-bingo-35/
END:VEVENT
BEGIN:VEVENT
DTSTART;VALUE=DATE:20260428
DTEND;VALUE=DATE:20260429
DTSTAMP:20260425T151425
CREATED:20260114T164806Z
LAST-MODIFIED:20260114T164806Z
UID:5981-1777334400-1777420799@mvfair.com
SUMMARY:TUESDAY BINGO
DESCRIPTION:TWO SESSIONS 12:30 & 6:30PM \nDOORS OPEN 1 HOUR EARLY \nPACKAGES START AT $13
URL:https://mvfair.com/event/tuesday-bingo-81/
END:VEVENT
END:VCALENDAR